BEGIN:VCALENDAR
VERSION:2.0
PRODID:-//The County Lads - ECPv6.15.20//NONSGML v1.0//EN
CALSCALE:GREGORIAN
METHOD:PUBLISH
X-ORIGINAL-URL:https://thecountylads.com
X-WR-CALDESC:Events for The County Lads
REFRESH-INTERVAL;VALUE=DURATION:PT1H
X-Robots-Tag:noindex
X-PUBLISHED-TTL:PT1H
BEGIN:VTIMEZONE
TZID:America/Toronto
BEGIN:DAYLIGHT
TZOFFSETFROM:-0500
TZOFFSETTO:-0400
TZNAME:EDT
DTSTART:20230312T070000
END:DAYLIGHT
BEGIN:STANDARD
TZOFFSETFROM:-0400
TZOFFSETTO:-0500
TZNAME:EST
DTSTART:20231105T060000
END:STANDARD
BEGIN:DAYLIGHT
TZOFFSETFROM:-0500
TZOFFSETTO:-0400
TZNAME:EDT
DTSTART:20240310T070000
END:DAYLIGHT
BEGIN:STANDARD
TZOFFSETFROM:-0400
TZOFFSETTO:-0500
TZNAME:EST
DTSTART:20241103T060000
END:STANDARD
BEGIN:DAYLIGHT
TZOFFSETFROM:-0500
TZOFFSETTO:-0400
TZNAME:EDT
DTSTART:20250309T070000
END:DAYLIGHT
BEGIN:STANDARD
TZOFFSETFROM:-0400
TZOFFSETTO:-0500
TZNAME:EST
DTSTART:20251102T060000
END:STANDARD
BEGIN:DAYLIGHT
TZOFFSETFROM:-0500
TZOFFSETTO:-0400
TZNAME:EDT
DTSTART:20260308T070000
END:DAYLIGHT
BEGIN:STANDARD
TZOFFSETFROM:-0400
TZOFFSETTO:-0500
TZNAME:EST
DTSTART:20261101T060000
END:STANDARD
END:VTIMEZONE
BEGIN:VEVENT
DTSTART;TZID=America/Toronto:20250718T193000
DTEND;TZID=America/Toronto:20250719T010000
DTSTAMP:20260423T000743
CREATED:20250515T152733Z
LAST-MODIFIED:20250515T152733Z
UID:10000062-1752867000-1752886800@thecountylads.com
SUMMARY:Avonmore Fair
DESCRIPTION:
URL:https://thecountylads.com/event/avonmore-fair-2025/
LOCATION:Avonmore Fairgrounds\, Avonmore
CATEGORIES:Fair
ATTACH;FMTTYPE=image/jpeg:https://thecountylads.com/wp-content/uploads/2024/07/05TheCountyLads-200-copy.jpg
END:VEVENT
BEGIN:VEVENT
DTSTART;TZID=America/Toronto:20250606T200000
DTEND;TZID=America/Toronto:20250607T010000
DTSTAMP:20260423T000743
CREATED:20250515T150946Z
LAST-MODIFIED:20250515T150946Z
UID:10000055-1749240000-1749258000@thecountylads.com
SUMMARY:Post Planting Party
DESCRIPTION:
URL:https://thecountylads.com/event/post-planting-party-2025/
LOCATION:Avonmore Fairgrounds\, Avonmore
CATEGORIES:Event
ATTACH;FMTTYPE=image/jpeg:https://thecountylads.com/wp-content/uploads/2024/07/05TheCountyLads-200-copy.jpg
END:VEVENT
BEGIN:VEVENT
DTSTART;TZID=America/Toronto:20240719T193000
DTEND;TZID=America/Toronto:20240720T010000
DTSTAMP:20260423T000743
CREATED:20240804T172817Z
LAST-MODIFIED:20240804T215454Z
UID:10000031-1721417400-1721437200@thecountylads.com
SUMMARY:Avonmore Fair
DESCRIPTION:
URL:https://thecountylads.com/event/avonmore-fair/
LOCATION:Avonmore Fairgrounds\, Avonmore
CATEGORIES:Fair
ATTACH;FMTTYPE=image/jpeg:https://thecountylads.com/wp-content/uploads/2024/07/05TheCountyLads-200-copy.jpg
END:VEVENT
BEGIN:VEVENT
DTSTART;TZID=America/Toronto:20240607T200000
DTEND;TZID=America/Toronto:20240609T010000
DTSTAMP:20260423T000743
CREATED:20240804T215423Z
LAST-MODIFIED:20240804T215423Z
UID:10000032-1717790400-1717894800@thecountylads.com
SUMMARY:Post Planting Party
DESCRIPTION:
URL:https://thecountylads.com/event/post-planting-party/
LOCATION:Avonmore Fairgrounds\, Avonmore
CATEGORIES:Fair
ATTACH;FMTTYPE=image/jpeg:https://thecountylads.com/wp-content/uploads/2024/07/05TheCountyLads-200-copy.jpg
END:VEVENT
END:VCALENDAR