BEGIN:VCALENDAR
VERSION:2.0
PRODID:-//The County Lads - ECPv6.15.20//NONSGML v1.0//EN
CALSCALE:GREGORIAN
METHOD:PUBLISH
X-WR-CALNAME:The County Lads
X-ORIGINAL-URL:https://thecountylads.com
X-WR-CALDESC:Events for The County Lads
REFRESH-INTERVAL;VALUE=DURATION:PT1H
X-Robots-Tag:noindex
X-PUBLISHED-TTL:PT1H
BEGIN:VTIMEZONE
TZID:America/Toronto
BEGIN:DAYLIGHT
TZOFFSETFROM:-0500
TZOFFSETTO:-0400
TZNAME:EDT
DTSTART:20230312T070000
END:DAYLIGHT
BEGIN:STANDARD
TZOFFSETFROM:-0400
TZOFFSETTO:-0500
TZNAME:EST
DTSTART:20231105T060000
END:STANDARD
BEGIN:DAYLIGHT
TZOFFSETFROM:-0500
TZOFFSETTO:-0400
TZNAME:EDT
DTSTART:20240310T070000
END:DAYLIGHT
BEGIN:STANDARD
TZOFFSETFROM:-0400
TZOFFSETTO:-0500
TZNAME:EST
DTSTART:20241103T060000
END:STANDARD
BEGIN:DAYLIGHT
TZOFFSETFROM:-0500
TZOFFSETTO:-0400
TZNAME:EDT
DTSTART:20250309T070000
END:DAYLIGHT
BEGIN:STANDARD
TZOFFSETFROM:-0400
TZOFFSETTO:-0500
TZNAME:EST
DTSTART:20251102T060000
END:STANDARD
END:VTIMEZONE
BEGIN:VEVENT
DTSTART;TZID=America/Toronto:20240803T190000
DTEND;TZID=America/Toronto:20240803T210000
DTSTAMP:20260422T222738
CREATED:20240729T235001Z
LAST-MODIFIED:20240804T171717Z
UID:10000008-1722711600-1722718800@thecountylads.com
SUMMARY:Maxville Highland Games - Saturday Game Day
DESCRIPTION:
URL:https://thecountylads.com/event/maxville-highland-games-saturday-game-day/
LOCATION:Maxville Highland Games
CATEGORIES:Highland Games
ATTACH;FMTTYPE=image/png:https://thecountylads.com/wp-content/uploads/2024/07/05TheCountyLads-356.png
END:VEVENT
END:VCALENDAR